BEGIN:VCALENDAR
VERSION:2.0
PRODID:-//Revolutionaere Aktion Stuttgart - ECPv5.8.0//NONSGML v1.0//EN
CALSCALE:GREGORIAN
METHOD:PUBLISH
X-WR-CALNAME:Revolutionaere Aktion Stuttgart
X-ORIGINAL-URL:https://revolutionaere-aktion.org
X-WR-CALDESC:Veranstaltungen für Revolutionaere Aktion Stuttgart
BEGIN:VTIMEZONE
TZID:Europe/Berlin
BEGIN:DAYLIGHT
TZOFFSETFROM:+0100
TZOFFSETTO:+0200
TZNAME:CEST
DTSTART:20190331T010000
END:DAYLIGHT
BEGIN:STANDARD
TZOFFSETFROM:+0200
TZOFFSETTO:+0100
TZNAME:CET
DTSTART:20191027T010000
END:STANDARD
END:VTIMEZONE
BEGIN:VEVENT
DTSTART;TZID=Europe/Berlin:20190501T100000
DTEND;TZID=Europe/Berlin:20190501T100000
DTSTAMP:20260424T132925
CREATED:20190423T164713Z
LAST-MODIFIED:20190423T170647Z
UID:4545-1556704800-1556704800@revolutionaere-aktion.org
SUMMARY:Revolutionäre 1. Mai Demonstration und internationalistisches Fest
DESCRIPTION:Am 1. Mai gehen weltweit Menschen gegen den Kapitalismus und für eine sozialistische Gesellschaftsordnung auf die Straßen. In Stuttgart rufen wir zur Teilnahme am antikapitalistischen Block auf der DGB-Demo und im Anschluss an der Revolutionären Demo auf. Danach gibt’s ein Fest im Linken Zentrum. \nAntikapitalistischer Block auf der DGB-Demo 10.00 Uhr Marienplatz\nRevolutionäre 1.Mai-Demonstration 11.30 Karlsplatz\n1.Mai Fest 14.00 Uhr Linkes Zentrum Lilo Herrmann
URL:https://revolutionaere-aktion.org/termin/revolutionaere-1-mai-demonstration-und-fest/
END:VEVENT
END:VCALENDAR