BEGIN:VCALENDAR
VERSION:2.0
PRODID:-//Revolutionaere Aktion Stuttgart - ECPv5.8.0//NONSGML v1.0//EN
CALSCALE:GREGORIAN
METHOD:PUBLISH
X-WR-CALNAME:Revolutionaere Aktion Stuttgart
X-ORIGINAL-URL:https://revolutionaere-aktion.org
X-WR-CALDESC:Veranstaltungen für Revolutionaere Aktion Stuttgart
BEGIN:VTIMEZONE
TZID:Europe/Berlin
BEGIN:DAYLIGHT
TZOFFSETFROM:+0100
TZOFFSETTO:+0200
TZNAME:CEST
DTSTART:20190331T010000
END:DAYLIGHT
BEGIN:STANDARD
TZOFFSETFROM:+0200
TZOFFSETTO:+0100
TZNAME:CET
DTSTART:20191027T010000
END:STANDARD
END:VTIMEZONE
BEGIN:VEVENT
DTSTART;TZID=Europe/Berlin:20191128T190000
DTEND;TZID=Europe/Berlin:20191128T190000
DTSTAMP:20260420T112459
CREATED:20191123T190239Z
LAST-MODIFIED:20191123T190239Z
UID:5267-1574967600-1574967600@revolutionaere-aktion.org
SUMMARY:Podiumsveranstaltung: Was tun im Betrieb gegen Rechts?
DESCRIPTION:Vor einigen Monaten beim Daimlerkonzern: Zwei langjährige Mitarbeiter beleidigen auf rassistische Art und Weise über Monate einen Kollegen mit Migrationshintergrund. Sie schikanieren ihn mit extrem rechten Bildern bei Whatsapp und bedrohen sogar seine Familie. Irgendwann reicht es dem Betroffenen und er meldet die Vorkommnisse bei seinem Vorgesetzten. Die Vorwürfe lassen sich leicht belegen\, die beiden Hetzer verlieren ihren Job. Er rechnet damit\, dass nun alles vorbei ist\, aber es kommt ganz anders.\nDenn die beiden Rassisten haben einen Verbündeten an ihrer Seite\, der keine Kosten und Mühen scheut\, um die Vorfälle zu verdrehen und zu verharmlosen. Dieser Verbündete ist Oliver Hilburger\, Führer der rechten Pseudogewerkschaft Zentrum Automobil. Er lässt ein aufwendiges Propagandavideo produzieren\, das die beiden Rassisten als unschuldig darstellt. Laut dem faschistischen Streifen seien „ein türkischer Vertrauensmann und die durch und durch korrupte IG Metall“\, die im Stil der Mafia im Hintergrund die Fäden ziehe. Doch Hilburger ist nicht alleine: aus allen Ecken der braunen Bewegung wird das Stuttgarter Betriebsprojekt um Hilburger gefeiert und unterstützt. Es scheint so\, als ob nach dem Versuch die Deutungshoheit auf der Straße\, in den Medien und Parlamenten jetzt auch um die Vorherrschaft im Betrieb gekämpft werden soll. \nWarum investiert der ehemalige Co-Bandleader einer Naziband\, die den Soundtrack für die Videos des NSU lieferte\, soviel Energie in die Verteidigung von zwei Rassisten? Warum schießt Zentrum Automobil so scharf gegen die IG Metall\, nicht aber gegen die Konzernführung? Welche Rolle spielen Akteure wie 1Prozent für Deutschland oder Björn Höckes AfD-Flügel in all dem? Womit ist in der Region Stuttgart zu rechnen\, in der es in Waiblingen oder Sindelfingen bereits Zentrums-Ableger gibt? Und vor allem: Was können wir dieser Rechtsentwicklung entgegensetzen? \nTeilnehmerInnen am Podium:\nEin Vertreter der IG Metall\, ein Antifaschist\, ein Betriebsrat von Daimler Mettingen \nDie Veranstaltung wird organisiert von:\nInitiative Klassenkampf Stuttgart\nZusammen gegen Rechts Rems-Murr-Kreis\nAntifaschistisches Aktionsbündnis Stuttgart & Region \nQuelle
URL:https://revolutionaere-aktion.org/termin/podiumsveranstaltung-was-tun-im-betrieb-gegen-rechts/
LOCATION:Linkes Zentrum Lilo Herrman\, Böbliger Str. 105\, Stuttgart\, Baden Württemberg\, 70199\, Deutschland
ATTACH;FMTTYPE=image/jpeg:https://revolutionaere-aktion.org/wp-content/uploads/2019/11/rechte-im-betrieb-veranstaltung-1.jpg
END:VEVENT
END:VCALENDAR