BEGIN:VCALENDAR
VERSION:2.0
PRODID:-//Revolutionaere Aktion Stuttgart - ECPv5.8.0//NONSGML v1.0//EN
CALSCALE:GREGORIAN
METHOD:PUBLISH
X-WR-CALNAME:Revolutionaere Aktion Stuttgart
X-ORIGINAL-URL:https://revolutionaere-aktion.org
X-WR-CALDESC:Veranstaltungen für Revolutionaere Aktion Stuttgart
BEGIN:VTIMEZONE
TZID:Europe/Berlin
BEGIN:DAYLIGHT
TZOFFSETFROM:+0100
TZOFFSETTO:+0200
TZNAME:CEST
DTSTART:20200329T010000
END:DAYLIGHT
BEGIN:STANDARD
TZOFFSETFROM:+0200
TZOFFSETTO:+0100
TZNAME:CET
DTSTART:20201025T010000
END:STANDARD
END:VTIMEZONE
BEGIN:VEVENT
DTSTART;TZID=Europe/Berlin:20200115T083000
DTEND;TZID=Europe/Berlin:20200115T083000
DTSTAMP:20260422T130613
CREATED:20200109T081131Z
LAST-MODIFIED:20200109T081131Z
UID:5397-1579077000-1579077000@revolutionaere-aktion.org
SUMMARY:Hausbesetzung in der Forststraße 140 – Aufruf zur Prozessbeobachtung
DESCRIPTION:Im März 2019 wurde in der Forststraße 140 ein seit langem leerstehendes Haus besetzt und wieder mit Leben gefüllt. Die Forderung der AktivistInnen war klar: Mietverträge für von Wohnungsnot und Verdrängung Betroffene. Hausbesetzungen sind eine praktische Antwort auf die verheerende Wohnungsnot und den Leerstand von tausenden Wohnungen. Was unternahm die Stadtverwaltung und OB Kuhn? Erst heuchelten sie Verhandlungen vor\, dann folgte zwei Tage später die Zwangsräumung mit hundert Polizisten und einer Drohne am Himmel. Nun werden fünf AktivistInnen kriminalisiert unter anderem wegen „Hausfriedensbruch“. Als Solikreis für die Betroffenen rufen wir zur solidarischen Prozessbeobachtung auf. \nProzesstermine: \nMittwoch\, 15. Januar 2020\nDienstag\, 4. Februar 2020 (entfällt\, falls Urteil beim ersten Prozess)\nDienstag\, 3. März 2020 \nJeweils: 8.30 Uhr Kundgebung\, 9.00 Uhr Prozessbeginn\nOrt: Amtsgericht Stuttgart\, Hauffstr. 5\, 70190 Stuttgart \nMehr Infos zu #leerstandbeleben: www.leerstand-beleben.tk
URL:https://revolutionaere-aktion.org/termin/hausbesetzung-in-der-forststrasse-140-aufruf-zur-prozessbeobachtung/
LOCATION:Amtsgericht Stuttgart
ATTACH;FMTTYPE=image/jpeg:https://revolutionaere-aktion.org/wp-content/uploads/2020/01/flyer-forstprozesse-din6-web.jpg
END:VEVENT
END:VCALENDAR