BEGIN:VCALENDAR
VERSION:2.0
PRODID:-//Revolutionaere Aktion Stuttgart - ECPv5.8.0//NONSGML v1.0//EN
CALSCALE:GREGORIAN
METHOD:PUBLISH
X-WR-CALNAME:Revolutionaere Aktion Stuttgart
X-ORIGINAL-URL:https://revolutionaere-aktion.org
X-WR-CALDESC:Veranstaltungen für Revolutionaere Aktion Stuttgart
BEGIN:VTIMEZONE
TZID:Europe/Berlin
BEGIN:DAYLIGHT
TZOFFSETFROM:+0100
TZOFFSETTO:+0200
TZNAME:CEST
DTSTART:20200329T010000
END:DAYLIGHT
BEGIN:STANDARD
TZOFFSETFROM:+0200
TZOFFSETTO:+0100
TZNAME:CET
DTSTART:20201025T010000
END:STANDARD
END:VTIMEZONE
BEGIN:VEVENT
DTSTART;TZID=Europe/Berlin:20200215T083000
DTEND;TZID=Europe/Berlin:20200215T083000
DTSTAMP:20260422T144054
CREATED:20200211T105644Z
LAST-MODIFIED:20200211T110339Z
UID:5457-1581755400-1581755400@revolutionaere-aktion.org
SUMMARY:Gegen den AfD Sonderparteitag in Böblingen
DESCRIPTION:Aufruf vom Antifaschistischen Aktionsbündnis Stuttgart & Region: Am 15. Februar findet in der Kongresshalle Böblingen der Sonderparteitag des AfD-Landesverbandes statt\, bei dem die rechten Hetzer ihren seit längerer Zeit stattfindenden innerparteilichen Machtkampf lösen wollen. Seit geraumer Zeit gewinnen Sympathisanten des faschistischen Flügels um den sogenannten „Stuttgarter-Aufruf“ zunehmend an Einfluss und liegen im Konflikt mit Teilen des Landesvorstandes. Es ist zu erwarten\, dass sich dieser Teil der Partei in Böblingen durchsetzen wird.  Doch egal\, ob sich rechte Hardliner der Partei am 15. Februar durchsetzen\, oder andere Teile der Partei sich an der Macht halten können\, es handelt sich bei der gesamten AfD um eine extrem rechte Partei. \nEine Partei\, welche die Gesellschaft mit ihrer Hetze spaltet und ein Klima schafft\, in dem Angriffe auf Geflüchtete\, Menschen mit (vermeintlichem) Migrationshintergrund und andere\, die nicht in das Weltbild der Faschisten passen\, befeuert werden. \nAußerdem versucht die AfD schon seit Jahren durch neoliberale und chauvinistische Forderungen der sowieso schon wenig besitzenden arbeitenden Bevölkerung noch mehr wegzunehmen. Rentenkürzungen\, Sozialabbau und Arbeitszeitverlängerungen sind hier nur ein paar der Forderungen\, welche aufzeigen\, dass die AfD sicherlich nicht die Partei der sogenannten kleinen Leute\, sondern viel mehr die der Reichen und Mächtigen ist.\nDie AfD ist zentraler Motor und zugleich Profiteur eines\nfortschreitenden gesellschaftlichen Rechtsrucks\, sowie Dreh- und\nAngelpunkt der rechten Bewegung. \nEs liegt an uns\, dass wir Veranstaltungen dieser Partei mit unserem\nvielfältigen\, selbstbestimmten und entschlossenen Protest begegnen.\nZeigt deshalb gemeinsam mit uns\, dass wir die rechte Hetzte der AfD auch\nin Böblingen nicht ungestört stehen lassen. Setzten wir dem unsere\ngemeinsame Perspektive einer solidarischen und emanzipierten\nGesellschaft entgegen. \nKommt zur Kundgebung gegen den Sonderparteitag der AfD! \n15.02 um 08:30 vor die Böblinger Kongresshalle (Tübinger Straße)! \nAnreise von Stuttgart: 07:45 Hauptbahnhof (vor dem Le Crobag)
URL:https://revolutionaere-aktion.org/termin/gegen-den-afd-sonderparteitag-in-boeblingen/
END:VEVENT
END:VCALENDAR