BEGIN:VCALENDAR
VERSION:2.0
PRODID:-//Revolutionaere Aktion Stuttgart - ECPv5.8.0//NONSGML v1.0//EN
CALSCALE:GREGORIAN
METHOD:PUBLISH
X-WR-CALNAME:Revolutionaere Aktion Stuttgart
X-ORIGINAL-URL:https://revolutionaere-aktion.org
X-WR-CALDESC:Veranstaltungen für Revolutionaere Aktion Stuttgart
BEGIN:VTIMEZONE
TZID:Europe/Berlin
BEGIN:DAYLIGHT
TZOFFSETFROM:+0100
TZOFFSETTO:+0200
TZNAME:CEST
DTSTART:20210328T010000
END:DAYLIGHT
BEGIN:STANDARD
TZOFFSETFROM:+0200
TZOFFSETTO:+0100
TZNAME:CET
DTSTART:20211031T010000
END:STANDARD
END:VTIMEZONE
BEGIN:VEVENT
DTSTART;TZID=Europe/Berlin:20211217T190000
DTEND;TZID=Europe/Berlin:20211217T190000
DTSTAMP:20260421T163601
CREATED:20211122T081251Z
LAST-MODIFIED:20211123T225326Z
UID:6773-1639767600-1639767600@revolutionaere-aktion.org
SUMMARY:Frontline Rojava - Veranstaltung mit einer Genossin\, die vor kurzem in Rojava war
DESCRIPTION:Vor bald zehn Jahren begann die Rojava-Revolution. Trotz schwierigsten Bedingungen entwickelt sie sich stetig weiter. Ohne Organisierung\, Erfahrung und Intelligenz wäre dieser Prozess undenkbar. Beispielhaft zeigt sich das in den verschiedenen Bereichen\, wo die Guerilla\, der Widerstand und die Gesellschaft mit den Angriffen der Türkei und ihrer Kollaborateure konfrontiert sind. Wir beleuchten die unterschiedlichen Fronten des revolutionären Prozesses mit einer Internationalistin\, die soeben in Rojava war und von den Frontlines und der Guerilla des 21. Jahrhunderts berichten kann. Wir freuen uns zudem eine Analyse zu den militärischen Aggressionen und der aktuellen Lage zu hören und im Anschluss darüber zu diskutieren. \nFreitag\, 17.12.21 um 19 Uhr\nLinken Zentrum Lilo Herrmann \n \n 
URL:https://revolutionaere-aktion.org/termin/frontline-rojava-veranstaltung-mit-einer-genossin-die-vor-kurzem-in-rojava-war/
LOCATION:Linkes Zentrum Lilo Herrman\, Böbliger Str. 105\, Stuttgart\, Baden Württemberg\, 70199\, Deutschland
END:VEVENT
END:VCALENDAR