BEGIN:VCALENDAR
VERSION:2.0
PRODID:-//Revolutionaere Aktion Stuttgart - ECPv5.8.0//NONSGML v1.0//EN
CALSCALE:GREGORIAN
METHOD:PUBLISH
X-WR-CALNAME:Revolutionaere Aktion Stuttgart
X-ORIGINAL-URL:https://revolutionaere-aktion.org
X-WR-CALDESC:Veranstaltungen für Revolutionaere Aktion Stuttgart
BEGIN:VTIMEZONE
TZID:Europe/Berlin
BEGIN:DAYLIGHT
TZOFFSETFROM:+0100
TZOFFSETTO:+0200
TZNAME:CEST
DTSTART:20190331T010000
END:DAYLIGHT
BEGIN:STANDARD
TZOFFSETFROM:+0200
TZOFFSETTO:+0100
TZNAME:CET
DTSTART:20191027T010000
END:STANDARD
END:VTIMEZONE
BEGIN:VEVENT
DTSTART;TZID=Europe/Berlin:20190308T160000
DTEND;TZID=Europe/Berlin:20190308T160000
DTSTAMP:20260424T103534
CREATED:20190216T211006Z
LAST-MODIFIED:20190216T211006Z
UID:4349-1552060800-1552060800@revolutionaere-aktion.org
SUMMARY:Frauenkampftag - Aktionen am 8. März
DESCRIPTION:Am 8. März ist Internationaler Frauenkampftag. Schon seit über 100 Jahren streiken\, streiten und kämpfen wir Frauen für unsere Rechte und gegen jede Form von Benachteiligung\, Ausbeutung und Unterdrückung. Egal\, in welchem Land wir leben\, welche Herkunft wir haben – immer mehr (junge) Frauen beteiligen sich an unterschiedlichen Kämpfen\, wenn es um die Umsetzung und Erfüllung ihrer Forderungen geht. Und der Protest wird immer größer! 2017 gingen weltweit Frauen auf die Straße und es kam zu immensen Protesten; von Polen bis Argentinien\, von New York bis Hongkong\, von Spanien über Nigeria bis Australien. Auch wir sehen mehr als genug Gründe und sagen daher: Es reicht! Lasst uns am 8. März gemeinsam auf die Straße gehen! \nWir sind Teil der Frauenbewegung und setzen uns für Frauenrechte auf allen Ebenen ein. \nDenn die Realität ist: Frauen werden immer noch diskriminiert\, unterdrückt und ausgebeutet. Wir werden noch immer mit verletzenden Witzen\, Kommentaren\, Übergriffen und körperlicher Gewalt klein gemacht. Obwohl Kinder unumstritten Mütter und Väter haben\, wird die Verantwortung für die Versorgung der Kinder und die Frage\, wie diese mit einer Erwerbstätigkeit vereinbart werden kann\, immer noch meistens den Frauen zugeschoben. Die Arbeit von Frauen wird geringgeschätzt und noch immer verdienen Frauen in Deutschland im Schnitt 22% weniger als Männer. Nicht nur das\, zu Hause übernehmen wir unzählige Stunden an Erziehungs-\, Haushalts- und Pflegearbeit. Im Alter kommen wir mit unserer Rente kaum oder gar nicht über die Runden. Wir erteilen den Absichten von Politik und Wirtschaft\, die Höchstarbeitszeit auf 12 Stunden auszudehnen\, eine klare Absage. Familien und insbesondere Frauen und Alleinerziehende mit Kindern würde dies ein Arbeiten unmöglich machen und wäre ein Schritt zurück bei dem Thema Gleichberechtigung und der partnerschaftlichen Arbeitsteilung der Familienarbeit. Diesen Absichten setzen wir die Forderung nach weiteren kollektiven Arbeitszeitverkürzungen für alle bei vollem Lohnausgleich entgegen. \nFrauenrechte gegen Rechtspopulisten verteidigen \nSeit Jahren gibt es in Deutschland eine gesellschaftliche Rechtsentwicklung. Das zeigt auch der Aufstieg der AfD. Diese Rechten greifen unsere hart erkämpften Frauenrechte an. \nSie wollen das Rad der Geschichte zurückdrehen und die alten Rollenbilder wieder beleben. Wir beziehen klar Stellung gegen alle\, die uns unsere Rechte wieder nehmen wollen und mit Wörtern wie „Gendergagga“ unsere Anliegen angreifen. Wir werden die Errungenschaften der Frauenbewegung verteidigen und kämpfen weiter für eine sozial gerechte und solidarische Welt. Dabei geht es nicht nur darum\, den rechten Parteien keine Stimmen zu geben\, sondern aktiv gegen den Rechtsruck der herrschenden Politik auf die Straße zu gehen! \nWir lassen uns das nicht länger gefallen! \nDas Recht auf gleichberechtigte Teilhabe am gesellschaftlichen Leben\, das Recht auf gleiches Entgelt\, auf Selbstbestimmung über den eigenen Körper sind unzertrennlich verbunden mit dem Kampf von Frauen unterschiedlicher Herkunft für eine gerechte Gesellschaft ohne Unterdrückung und Ausgrenzung. Wir wollen uns gemeinsam zusammentun und für eine Gesellschaft kämpfen\, in der Frauen die gleichen Rechte wie Männer haben und Sexismus und Gewalt nicht alltäglich erlebt werden! Wir wollen uns nicht länger in Frauen mit oder ohne deutschen Pass\, in Migrant*innen und Deutsche\, spalten und gegeneinander ausspielen lassen! \n100 Jahre nachdem wir das Wahlrecht erfolgreich erkämpft haben\, ist es wichtig zu zeigen\, dass Frauen in allen Bereichen die Hälfte der Gesellschaft sind. Denn es gibt noch zu viele Gründe und unerfüllte Forderungen\, für die es sich lohnt auf die Straße zu gehen: \nFür Frauenkampf\nFür Entgeltgleichheit\nFür Selbstbestimmung\nFür Solidarität \nKommt zu den Aktionen am 8. März 2019: \n16:00 Infostände auf dem Schlossplatz\n17:15 Aktion bei Primark\n17:30 Demobeginn am Rotebühlplatz\nQuelle \nWebsite vom Aktionsbündnis 8. März
URL:https://revolutionaere-aktion.org/termin/frauenkampftag-aktionen-am-8-maerz/
LOCATION:Schlossplatz
ATTACH;FMTTYPE=image/jpeg:https://revolutionaere-aktion.org/wp-content/uploads/2019/02/8.mc3a4rz.jpg
END:VEVENT
END:VCALENDAR