BEGIN:VCALENDAR
VERSION:2.0
PRODID:-//Revolutionaere Aktion Stuttgart - ECPv5.8.0//NONSGML v1.0//EN
CALSCALE:GREGORIAN
METHOD:PUBLISH
X-WR-CALNAME:Revolutionaere Aktion Stuttgart
X-ORIGINAL-URL:https://revolutionaere-aktion.org
X-WR-CALDESC:Veranstaltungen für Revolutionaere Aktion Stuttgart
BEGIN:VTIMEZONE
TZID:Europe/Berlin
BEGIN:DAYLIGHT
TZOFFSETFROM:+0100
TZOFFSETTO:+0200
TZNAME:CEST
DTSTART:20200329T010000
END:DAYLIGHT
BEGIN:STANDARD
TZOFFSETFROM:+0200
TZOFFSETTO:+0100
TZNAME:CET
DTSTART:20201025T010000
END:STANDARD
END:VTIMEZONE
BEGIN:VEVENT
DTSTART;TZID=Europe/Berlin:20200111T180000
DTEND;TZID=Europe/Berlin:20200111T180000
DTSTAMP:20260419T185334
CREATED:20200109T080911Z
LAST-MODIFIED:20200109T080911Z
UID:5394-1578765600-1578765600@revolutionaere-aktion.org
SUMMARY:Arbeitstreffen zur Situation im Iran/Irak
DESCRIPTION:Das Offene Treffen gegen Krieg und Militarisierung Stuttgart lädt ein zu einem Arbeitstreffen wegen der Situation im Iran/Irak. \nHier die Ankündigung vom OTKM: Bei dem Arbeitstreffen wolle wir uns zur aktuellen Situation zum Iran/ Irak und USA informieren und gemeinsam überlegen wie wir die Situation einschätzen und wie wir bei verschiedenen Szenarien reagieren können. \n\nKommt vorbei und beteiligt euch daran! \nQuelle
URL:https://revolutionaere-aktion.org/termin/arbeitstreffen-zur-situation-im-iran-irak/
LOCATION:Linkes Zentrum Lilo Herrman\, Böbliger Str. 105\, Stuttgart\, Baden Württemberg\, 70199\, Deutschland
ATTACH;FMTTYPE=image/jpeg:https://revolutionaere-aktion.org/wp-content/uploads/2020/01/Otkm-Sharepic-Naher-osten-arbeitstreffen.jpg
END:VEVENT
END:VCALENDAR