BEGIN:VCALENDAR
VERSION:2.0
PRODID:-//Revolutionaere Aktion Stuttgart - ECPv5.8.0//NONSGML v1.0//EN
CALSCALE:GREGORIAN
METHOD:PUBLISH
X-WR-CALNAME:Revolutionaere Aktion Stuttgart
X-ORIGINAL-URL:https://revolutionaere-aktion.org
X-WR-CALDESC:Veranstaltungen für Revolutionaere Aktion Stuttgart
BEGIN:VTIMEZONE
TZID:Europe/Berlin
BEGIN:DAYLIGHT
TZOFFSETFROM:+0100
TZOFFSETTO:+0200
TZNAME:CEST
DTSTART:20210328T010000
END:DAYLIGHT
BEGIN:STANDARD
TZOFFSETFROM:+0200
TZOFFSETTO:+0100
TZNAME:CET
DTSTART:20211031T010000
END:STANDARD
END:VTIMEZONE
BEGIN:VEVENT
DTSTART;TZID=Europe/Berlin:20210924T120000
DTEND;TZID=Europe/Berlin:20210924T120000
DTSTAMP:20260422T111623
CREATED:20210922T155434Z
LAST-MODIFIED:20210922T155434Z
UID:6732-1632484800-1632484800@revolutionaere-aktion.org
SUMMARY:Antikapitalistische Beteiligung am globalen Klimastreik
DESCRIPTION:Das Aktionstreffen Klimagerechtigkeit ruft zu einer antikapitalistischen Beteiligung am globalen Klimastreik auf.\nMehr Infos auf den Kanälen vom Treffen: https://atk0711.wordpress.com/
URL:https://revolutionaere-aktion.org/termin/antikapitalistische-beteiligung-am-globalen-klimastreik/
END:VEVENT
END:VCALENDAR