BEGIN:VCALENDAR
VERSION:2.0
PRODID:-//Revolutionaere Aktion Stuttgart - ECPv5.8.0//NONSGML v1.0//EN
CALSCALE:GREGORIAN
METHOD:PUBLISH
X-WR-CALNAME:Revolutionaere Aktion Stuttgart
X-ORIGINAL-URL:https://revolutionaere-aktion.org
X-WR-CALDESC:Veranstaltungen für Revolutionaere Aktion Stuttgart
BEGIN:VTIMEZONE
TZID:Europe/Berlin
BEGIN:DAYLIGHT
TZOFFSETFROM:+0100
TZOFFSETTO:+0200
TZNAME:CEST
DTSTART:20190331T010000
END:DAYLIGHT
BEGIN:STANDARD
TZOFFSETFROM:+0200
TZOFFSETTO:+0100
TZNAME:CET
DTSTART:20191027T010000
END:STANDARD
END:VTIMEZONE
BEGIN:VEVENT
DTSTART;TZID=Europe/Berlin:20191231T170000
DTEND;TZID=Europe/Berlin:20191231T170000
DTSTAMP:20260419T172030
CREATED:20191227T165334Z
LAST-MODIFIED:20191227T165417Z
UID:5362-1577811600-1577811600@revolutionaere-aktion.org
SUMMARY:An Silvester zum Knast in Stuttgart-Stammheim
DESCRIPTION:Die politischen Entwicklungen und Verschärfungen der jüngeren Vergangenheit und die damit einhergehende Repression beschäftigen weite Teile der linken Bewegung. Hier der Aufruf zur diesjährigen Silvestermobilisierung. Hier findet ihr alle Infos zur Silvestermobilisierung und den Aufruf
URL:https://revolutionaere-aktion.org/termin/an-silvester-zum-knast-in-stuttgart-stammheim/
LOCATION:Stammheim Haltestelle
END:VEVENT
END:VCALENDAR