BEGIN:VCALENDAR
VERSION:2.0
PRODID:-//Revolutionaere Aktion Stuttgart - ECPv5.8.0//NONSGML v1.0//EN
CALSCALE:GREGORIAN
METHOD:PUBLISH
X-WR-CALNAME:Revolutionaere Aktion Stuttgart
X-ORIGINAL-URL:https://revolutionaere-aktion.org
X-WR-CALDESC:Veranstaltungen für Revolutionaere Aktion Stuttgart
BEGIN:VTIMEZONE
TZID:Europe/Berlin
BEGIN:DAYLIGHT
TZOFFSETFROM:+0100
TZOFFSETTO:+0200
TZNAME:CEST
DTSTART:20220327T010000
END:DAYLIGHT
BEGIN:STANDARD
TZOFFSETFROM:+0200
TZOFFSETTO:+0100
TZNAME:CET
DTSTART:20221030T010000
END:STANDARD
END:VTIMEZONE
BEGIN:VEVENT
DTSTART;TZID=Europe/Berlin:20220501T140000
DTEND;TZID=Europe/Berlin:20220501T140000
DTSTAMP:20260421T103228
CREATED:20220425T104257Z
LAST-MODIFIED:20220425T111116Z
UID:7096-1651413600-1651413600@revolutionaere-aktion.org
SUMMARY:1.Mai Straßenfest im Linken Zentrum Lilo Herrmann
DESCRIPTION:Ankündigung von der Website des Linken Zentrum Lilo Herrmann: Endlich wieder! Dieses Jahr wird das 1.Mai Fest wieder stattfinden! Das Fest startet um 14.00 Uhr im Anschluss an die DGB-Gewerkschaftsdemo mit klassenkämpferischer Beteiligung und der revolutionären Demo. Aufgrund von Corona\, konnten die letzten zwei Jahre leider keine Feste bei uns stattfinden. Daher freuen wir uns sehr\, dass dieses Jahr unser Zentrum die Türen wieder öffnet!\n\nAuf euch wartet ein kulturelles Programm mit live Musik\, Infostände von vielen verschiedenen Initiativen\, verschiedene Essensstände und Cocktails! \nNatürlich gibt es Corona immer noch und wir wollen unser Fest so sicher gestalten wie möglich. Daher wird das Programm dieses Jahr draußen stattfinden. Bitte testet euch bevor ihr zum Fest kommt und wenn ihr euch krank fühlt\, bleibt lieber zuhause. \n Dieses Jahr mit dabei:\nIlhan44 (Hip Hop)\nEssensständen\, Getränke & Cocktails\nArbeiterInnenchor Heslach\nInfostände \nKommt zahlreich!\nWir freuen uns schon auf ein rauschendes Fest! \n \nLive am 1. Mai Fest: Ilhan44
URL:https://revolutionaere-aktion.org/termin/1-mai-strassenfest-im-linken-zentrum-lilo-herrmann/
LOCATION:Linkes Zentrum Lilo Herrman\, Böbliger Str. 105\, Stuttgart\, Baden Württemberg\, 70199\, Deutschland
END:VEVENT
END:VCALENDAR