BEGIN:VCALENDAR
VERSION:2.0
PRODID:-//Revolutionaere Aktion Stuttgart - ECPv5.8.0//NONSGML v1.0//EN
CALSCALE:GREGORIAN
METHOD:PUBLISH
X-WR-CALNAME:Revolutionaere Aktion Stuttgart
X-ORIGINAL-URL:https://revolutionaere-aktion.org
X-WR-CALDESC:Veranstaltungen für Revolutionaere Aktion Stuttgart
BEGIN:VTIMEZONE
TZID:Europe/Berlin
BEGIN:DAYLIGHT
TZOFFSETFROM:+0100
TZOFFSETTO:+0200
TZNAME:CEST
DTSTART:20220327T010000
END:DAYLIGHT
BEGIN:STANDARD
TZOFFSETFROM:+0200
TZOFFSETTO:+0100
TZNAME:CET
DTSTART:20221030T010000
END:STANDARD
END:VTIMEZONE
BEGIN:VEVENT
DTSTART;TZID=Europe/Berlin:20220501T100000
DTEND;TZID=Europe/Berlin:20220501T100000
DTSTAMP:20260421T132955
CREATED:20220413T231855Z
LAST-MODIFIED:20220413T231855Z
UID:7086-1651399200-1651399200@revolutionaere-aktion.org
SUMMARY:1. Mai - Klassenkämpferische Beteiligung an DGB-Demo
DESCRIPTION:Mehr Infos in Kürz.\nStart der DGB-Demo ist um 10:00 Uhr am Marienplatz.
URL:https://revolutionaere-aktion.org/termin/1-mai-klassenkaempferische-beteiligung-an-dgb-demo/
LOCATION:Marienplatz
END:VEVENT
END:VCALENDAR